Workbook

Sheet Zeit- und Kostenplan (leer)
B2: Name: | D2: Projekt: | E2: Z E I T P L A N | Y2: Datum: | AN2: K O S T E N P L A N
AN4: Basis: | AO4: 40 | AP4: h/w | AR4: gesamt: | AS4: =AS15+AS30+AS39+AS69+AS96 -> 0
D5: Jahr | E5: 2018 | AE5: 2019
D6: Monat | E6: Oktober | N6: November | W6: Dezember | AE6: Januar | AN6: Anz. Pers. | AO6: Nutzgrad | AP6: Stundensatz | AQ6: Dauer | AS6: Kosten
B7: Nr.: | C7: Aktivitäten | D7: Kalenderwoche | E7: 40 | G7: 41 | I7: 42 | K7: 43 | M7: 44 | O7: 45 | Q7: 46 | S7: 47 | U7: 48 | W7: 49 | Y7: 50 | AA7: 51 | AC7: 52 | AE7: 1 | AG7: 2 | AI7: 3 | AK7: 4 | AN7: [Pers.] | AO7: [%] | AP7: [€/h] | AQ7: [h] | AR7: [w] | AS7: [€]
B9: 1
B12: 2
B15: 3
B18: 4
B21: 5
B24: 6
B27: 7
B30: 8
B33: 9
B36: 10
B39: 11
B42: 12
... B135: 43

Sheet Zeit- und Kostenplan (Beispiel)
B2: Name: | D2: Projekt: | E2: Z E I T P L A N | Y2: Datum:
B3: Christian Heinzmann | D3: Kaffeemühle | Y3: 44148
B4: Chrisitian Kuttler
B5: Lukas Rieg | D5: Jahr | E5: 2020 | AE5: 2021
B6: Maximilian Mantel | D6: Monat | E6: Oktober | N6: November | W6: Dezember | AE6: Januar | AM6: Februar | AU6: März
B7: Nr.: | C7: Aktivitäten | D7: Kalenderwoche | E7: 40 | G7: 41 | I7: 42 | K7: 43 | M7: 44 | O7: 45 | Q7: 46 | S7: 47 | U7: 48 | W7: 49 | Y7: 50 | AA7: 51 | AC7: 52 | AE7: 1 | AG7: 2 | AI7: 3 | AK7: 4 | AM7: 5 | AO7: 6 | AQ7: 7 | AS7: 8 | AU7: 9 | AW7: 10 | AY7: 11 | BA7: 12
B9: 1 | C9: Projektstart | P9: Projektstart, Aufgabenstellung (08.11.2018)
B12: 2
B15: 3 | C15: Phase 1 - Projektplanung
B18: 4 | C18: Arbeitspakte 1.1 -Erstellung der Website | O18: ↘
B21: 5 | C21: Arbeitspaket 1.2 - Zeitplanung (Gantt-Diagramm) | P21: ↘
B24: 6 | C24: Meilenstein 1 - Website hochladen | Q24: ↘ | S24: Websiteonline (15.11.2020)
B27: 7
B30: 8 | C30: Phase 2 - Klären der Anforderungen
B33: 9 | C33: Arbeitspaket 2.1 - Erstellen der Anforderungsliste | P33: ↘
B36: 10 | C36: Arbeitspaket 2.2 - Kundenbefragung | Q36: ↘
B39: 11 | C39: Arbeitspaket 2.3 - Herstellergespräche | R39: ↘
B42: 12 | C42: Meilenstein 2 - Endgültige Anforderungen | T42: ↘ | V42: Endgültige Anforderungen (24.11.2020)
B45: 13
B48: 14 | C48: Phase 3 - Konzeption und Auslegung
B51: 15 | C51: Arbeitspaket 3.1 - Morhologischer Kasten | T51: ↘
B54: 16 | C54: Arbeitspaket 3.2 - Prizipskizze | U54: ↘
B57: 17 | C57: Arbeitspaket 3.3 - Designstudie | V57: ↘
B60: 18 | C60: Meilenstein 3 - Lösungskonzept | X60: Lösungskonzepte (30.11.2020)
B63: 19
B66: 20 | C66: Phase 4 - Ausarbeiten der ausgewählten Lösung
B69: 21 | C69: Arbeitspaket 4.1 - Konstrukiton Mahlmodul | V69: ↘
B72: 22 | C72: Arbeitspaket 4.2 - Beschaffung Mahlwerk | W72: ↘
B75: 23 | C75: Arbeitspaket 4.3 - Beschaffung des Motors | W75: ↘
B78: 24 | C78: Arbeitspaket 4.4 - Beschaffung der weitere Elektrische Komponenten | W78: ↘
B81: 25 | C81: Arbeitspaket 4.5 - Konstruktion Gehäuse und Zubehör | X81: ↘
B84: 26 | C84: Meilenstein 4 - Bauteile bestellt / in Fertigung | Y84: ↘ | AA84: Bauteile bestellt oder in Fertigung (KW 50)
B87: 27
B90: 28 | C90: Phase 5 - Prototypischer Aufbau
B93: 29 | C93: Arbeitspaket 5.1 - Zusammenbau der mech. Komponenten | AG93: ↘
B96: 30 | C96: Arbeitspaket 5.2 - Zusammenbau der el. Komponenten | AG96: ↘
B99: 31 | C99: Arbeitspaket 5.3 - Weitere Komponenten Fertigen (3D-Druck) | AH99: ↘
B102: 32 | C102: Arbeitspaket 5.4 - Gesammtaufbau Prototyp | AI102: ↘
B105: 33 | C105: Arbeitspaket 5.5 - Testen des Prototyps | AJ105: ↘
B108: 34 | C108: Meilenstein 5 - Funktionsfähige Einzelsysteme | AJ108: ↘ | AL108: Funktionsfähige Einzelsysteme (KW 2)
B111: 35 | C111: Arbeitspaket 5.6 - Justieren und Kalibrieren | AT111: ↘
B114: 36 | C114: Meilenstein 6 - Funktionsfähige Prototyp (nach Anforderungen) | AF114: Funktionsfähige Prototyp (nach Anforderungen) (KW 9) | AU114: ↘
B117: 37
B120: 38 | C120: Phase 6 - Projektabschluss
B123: 39 | C123: Arbeitspaket 6.1 - Dokumtation | O123: ↘
B126: 40 | C126: Arbeitspaket 6.1.1 Aktualisieren der Webseite | O126: ↘
B129: 41 | C129: Arbeitspaket 6.1.2 Video | O129: ↘
B132: 42 | C132: Meilenstein 6 - Projektabgabe | AP132: Projektabgabe (KW 10) | AW132: ↘
B135: 43

Sheet Tabelle1
A2: K O S T E N P L A N
A4: Basis: | B4: 40 | C4: h/w | E4: gesamt: | F4: =F15+F30+F39+F69+F96 -> 48910
A6: Anz. Pers. | B6: Nutzgrad | C6: Stundensatz | D6: Dauer | F6: Kosten
A7: [Pers.] | B7: [%] | C7: [€/h] | D7: [h] | E7: [w] | F7: [€]
A15: ='Zeit- und Kostenplan (Beispiel)'!C15 -> Phase 1 - Projektplanung | F15: =SUM(F18:F22) -> 750
A18: 5 | B18: 1 | C18: 75 | D18: 1 | F18: =A18*B18*C18*D18 -> 375
A21: 5 | B21: 1 | C21: 75 | D21: 1 | F21: =A21*B21*C21*D21 -> 375
A30: ='Zeit- und Kostenplan (Beispiel)'!C30 -> Phase 2 - Klären der Anforderungen | F30: =F33 -> 750
A33: 5 | B33: 1 | C33: 75 | D33: 2 | F33: =A33*B33*C33*D33 -> 750
A39: ='Zeit- und Kostenplan (Beispiel)'!C39 -> Arbeitspaket 2.3 - Herstellergespräche | F39: =SUM(F42:F60) -> 5475
A42: 2 | B42: 1 | C42: 75 | D42: 2 | F42: =A42*B42*C42*D42 -> 300
A45: 2 | B45: 1 | C45: 75 | D45: 3 | F45: =A45*B45*C45*D45 -> 450
A48: 3 | B48: 1 | C48: 75 | D48: 4 | F48: =A48*B48*C48*D48 -> 900
A51: 2 | B51: 1 | C51: 75 | D51: 5 | F51: =A51*B51*C51*D51 -> 750
A54: 5 | B54: 1 | C54: 75 | D54: 2 | F54: =A54*B54*C54*D54 -> 750
A57: 2 | B57: 1 | C57: 75 | D57: 8 | F57: =A57*B57*C57*D57 -> 1200
A60: 5 | B60: 1 | C60: 75 | D60: 3 | F60: =A60*B60*C60*D60 -> 1125
A69: ='Zeit- und Kostenplan (Beispiel)'!C66 -> Phase 4 - Ausarbeiten der ausgewählten Lösung | F69: =SUM(F72:F87) -> 18325
A72: 5 | B72: 0.25 | C72: 75 | E72: 1 | F72: =A72*B72*C72*E72*$B$4 -> 3750
A75: 3 | B75: 0.25 | C75: 75 | E75: 1 | F75: =A75*B75*C75*E75*$B$4 -> 2250
A78: 2 | B78: 0.25 | C78: 100 | E78: 2 | F78: =A78*B78*C78*E78*$B$4 -> 4000
A81: 3 | B81: 0.25 | C81: 75 | E81: 3 | F81: =A81*B81*C81*E81*$B$4 -> 6750
A84: 2 | B84: 1 | C84: 75 | D84: 3 | F84: =A84*B84*C84*D84 -> 450
A87: 5 | B87: 1 | C87: 75 | D87: 3 | F87: =A87*B87*C87*D87 -> 1125
A96: ='Zeit- und Kostenplan (Beispiel)'!C90 -> Phase 5 - Prototypischer Aufbau | F96: =SUM(F98:F114) -> 23610
A99: 5 | B99: 0.25 | C99: 75 | E99: 1 | F99: =A99*B99*C99*E99*$B$4 -> 3750
A102: 1 | B102: 1 | C102: 60 | D102: 6 | F102: =A102*B102*C102*D102 -> 360
A105: 5 | B105: 0.25 | C105: 75 | E105: 4 | F105: =A105*B105*C105*E105*$B$4 -> 15000
A111: 5 | B111: 0.25 | C111: 75 | E111: 1 | F111: =A111*B111*C111*E111*$B$4 -> 3750
A114: 5 | B114: 1 | C114: 75 | D114: 2 | F114: =A114*B114*C114*D114 -> 750
